BEGIN:VCALENDAR
VERSION:2.0
PRODID:-//Winners&#039; Worship Center Church - Tampa, FL Nondenominational Church - ECPv6.15.20//NONSGML v1.0//EN
CALSCALE:GREGORIAN
METHOD:PUBLISH
X-ORIGINAL-URL:https://imawinner.org
X-WR-CALDESC:Events for Winners&#039; Worship Center Church - Tampa, FL Nondenominational Church
REFRESH-INTERVAL;VALUE=DURATION:PT1H
X-Robots-Tag:noindex
X-PUBLISHED-TTL:PT1H
BEGIN:VTIMEZONE
TZID:UTC
BEGIN:STANDARD
TZOFFSETFROM:+0000
TZOFFSETTO:+0000
TZNAME:UTC
DTSTART:20160101T000000
END:STANDARD
END:VTIMEZONE
BEGIN:VEVENT
DTSTART;VALUE=DATE:20170324
DTEND;VALUE=DATE:20170326
DTSTAMP:20260423T220012
CREATED:20170211T053037Z
LAST-MODIFIED:20170314T054718Z
UID:956-1490313600-1490486399@imawinner.org
SUMMARY:My  BFF Winning Weekend
DESCRIPTION:
URL:https://imawinner.org/event/my-bff-winning-weekend/
LOCATION:11605 N. Nebraska Ave \, Tampa\, FL\, 33612\, United States
CATEGORIES:March 2017
ATTACH;FMTTYPE=image/jpeg:https://imawinner.org/wp-content/uploads/2017/02/MY-BFF-42.jpg
END:VEVENT
BEGIN:VEVENT
DTSTART;TZID=UTC:20170306T190000
DTEND;TZID=UTC:20170306T210000
DTSTAMP:20260423T220012
CREATED:20170211T070046Z
LAST-MODIFIED:20170211T070047Z
UID:975-1488826800-1488834000@imawinner.org
SUMMARY:S.A.L.T\, A Women's Ministry of Winners' Worship Center
DESCRIPTION:
URL:https://imawinner.org/event/s-a-l-t-a-womens-ministry-of-winners-worship-center/
LOCATION:11605 N. Nebraska Ave \, Tampa\, FL\, 33612\, United States
CATEGORIES:March 2017
ATTACH;FMTTYPE=image/jpeg:https://imawinner.org/wp-content/uploads/2017/02/salt-monthly-bible-study-no-address.jpg
END:VEVENT
BEGIN:VEVENT
DTSTART;TZID=UTC:20170225T100000
DTEND;TZID=UTC:20170225T120000
DTSTAMP:20260423T220012
CREATED:20170211T065726Z
LAST-MODIFIED:20170211T065726Z
UID:971-1488016800-1488024000@imawinner.org
SUMMARY:Men's Prayer Breakfast at Lupton's
DESCRIPTION:
URL:https://imawinner.org/event/mens-prayer-breakfast-at-luptons/
LOCATION:Lupton’s\, 5229 E. Busch Blvd\, Temple Terrace\, FL\, 33617\, United States
CATEGORIES:February 2017
ATTACH;FMTTYPE=image/jpeg:https://imawinner.org/wp-content/uploads/2017/02/Mens-Prayer-BreakfastSaturday-February-25that-10-am.jpg
END:VEVENT
END:VCALENDAR