BEGIN:VCALENDAR
VERSION:2.0
PRODID:-//Winners&#039; Worship Center Church - Tampa, FL Nondenominational Church - ECPv6.15.20//NONSGML v1.0//EN
CALSCALE:GREGORIAN
METHOD:PUBLISH
X-WR-CALNAME:Winners&#039; Worship Center Church - Tampa, FL Nondenominational Church
X-ORIGINAL-URL:https://imawinner.org
X-WR-CALDESC:Events for Winners&#039; Worship Center Church - Tampa, FL Nondenominational Church
REFRESH-INTERVAL;VALUE=DURATION:PT1H
X-Robots-Tag:noindex
X-PUBLISHED-TTL:PT1H
BEGIN:VTIMEZONE
TZID:UTC
BEGIN:STANDARD
TZOFFSETFROM:+0000
TZOFFSETTO:+0000
TZNAME:UTC
DTSTART:20160101T000000
END:STANDARD
END:VTIMEZONE
BEGIN:VEVENT
DTSTART;TZID=UTC:20180330T190000
DTEND;TZID=UTC:20180330T210000
DTSTAMP:20260423T200947
CREATED:20180302T055334Z
LAST-MODIFIED:20180330T180710Z
UID:1604-1522436400-1522443600@imawinner.org
SUMMARY:Rise Into a New Dawn - Journey of the Cross
DESCRIPTION:The Passion of Christ is a story told for centuries. The various aspects of Jesus Christ’s last hours on earth have been created into mini-visual stories throughout our campus. Walk through with your family at your own pace as each station will run continuously with sound or actors throughout the night. \nIn two hours\, come and experience a unique experience in the Tampa Bay area during one of our events during Easter weekend. \nWe welcome you to a free visual exhibit where you and your family can walk Christ’s journey to the cross. \nThis event is suitable for all ages. FREE Groceries to be distributed. \nFAQs \nHow can I can I sign up for a relative or myself to be baptized or for the baby dedication for my child on Easter Sunday? \nWhile we will accept anyone who may attend service and has not pre-registered if you would like to receive details on the event and a certificate at the Sunday service\, you must sign up by clicking here.
URL:https://imawinner.org/event/rise-into-a-journey-of-the-cross/
LOCATION:Winners’ Worship Center\, 9309 N Florida Ave Suite 104\, Tampa\, FL\, 33612\, United States
ATTACH;FMTTYPE=image/png:https://imawinner.org/wp-content/uploads/2018/03/Winners-Worship-Center-Easter-2018-Facebook-Cover-Photo.png
END:VEVENT
BEGIN:VEVENT
DTSTART;TZID=UTC:20180330T113000
DTEND;TZID=UTC:20180330T130000
DTSTAMP:20260423T200947
CREATED:20180302T054259Z
LAST-MODIFIED:20180302T055745Z
UID:1602-1522409400-1522414800@imawinner.org
SUMMARY:Rise Into a New Dawn – Good Friday Service at Winners’
DESCRIPTION:  \nJoin us for a mid-day experience with God led by Pastor Brenda Fruster. \nCommunion will be served during this service. \nFAQs \nHow can I can I sign up for a relative or myself to be baptized or for the baby dedication for my child? \nWhile we will accept anyone who may attend service and has not pre-registered if you would like to receive details on the event and a certificate at the Sunday service\, you must sign up by clicking here. \nWhat is the Journey of the Cross event being held at 7 pm at Winners’ on March 30th? \nIt is a free visual exhibit where you and your family can walk through our campus at your own pace learning about Christ’s journey to the cross.
URL:https://imawinner.org/event/rise-into-good-friday-at-winners/
LOCATION:Winners’ Worship Center\, 9309 N Florida Ave Suite 104\, Tampa\, FL\, 33612\, United States
ATTACH;FMTTYPE=image/png:https://imawinner.org/wp-content/uploads/2018/03/Winners-Worship-Center-Easter-2018-Facebook-Cover-Photo.png
END:VEVENT
BEGIN:VEVENT
DTSTART;TZID=UTC:20180314T180000
DTEND;TZID=UTC:20180314T210000
DTSTAMP:20260423T200947
CREATED:20180312T211552Z
LAST-MODIFIED:20180312T211552Z
UID:1661-1521050400-1521061200@imawinner.org
SUMMARY:Spring Break Bash 2018
DESCRIPTION:Free event for the entire family for Spring Break 2018. Add this to your fun things to do list in Tampa for spring break.
URL:https://imawinner.org/event/spring-break-bash-2018/
LOCATION:Winners’ Worship Center\, 9309 N Florida Ave Suite 104\, Tampa\, FL\, 33612\, United States
ATTACH;FMTTYPE=image/jpeg:https://imawinner.org/wp-content/uploads/2018/03/Spring-Break-Bash-for-Screen-Only-updated.jpg
END:VEVENT
BEGIN:VEVENT
DTSTART;TZID=UTC:20180203T080000
DTEND;TZID=UTC:20180203T100000
DTSTAMP:20260423T200947
CREATED:20180120T010003Z
LAST-MODIFIED:20180120T010003Z
UID:1509-1517644800-1517652000@imawinner.org
SUMMARY:Back to the Altar
DESCRIPTION:
URL:https://imawinner.org/event/back-to-the-altar/
LOCATION:Winners’ Worship Center\, 9309 N Florida Ave Suite 104\, Tampa\, FL\, 33612\, United States
END:VEVENT
BEGIN:VEVENT
DTSTART;TZID=UTC:20171204T190000
DTEND;TZID=UTC:20171204T203000
DTSTAMP:20260423T200947
CREATED:20171102T004402Z
LAST-MODIFIED:20171102T004402Z
UID:1469-1512414000-1512419400@imawinner.org
SUMMARY:How to Stay Jolly During the Holidays After a Loss
DESCRIPTION:
URL:https://imawinner.org/event/how-to-stay-jolly-during-the-holidays-after-a-loss/
LOCATION:Winners’ Worship Center\, 9309 N Florida Ave Suite 104\, Tampa\, FL\, 33612\, United States
END:VEVENT
BEGIN:VEVENT
DTSTART;TZID=UTC:20171118T090000
DTEND;TZID=UTC:20171118T130000
DTSTAMP:20260423T200947
CREATED:20171007T193956Z
LAST-MODIFIED:20171110T222516Z
UID:1428-1510995600-1511010000@imawinner.org
SUMMARY:Day of Thanks 2017
DESCRIPTION:Click HERE to register online today.\n\nDay of Thanks is a free community event where we share the love of Jesus\, one turkey & one family at a time. Turkeys\, groceries\, free clothing\, entertainment for the adults & activities for the children.\nOnly 1 turkey and food box per household. Must bring ID. Must be 18+ years old. No P.O. Box accepted for registration. Must be present. Non-transferable.\nRegistering online is the only way you will have a receipt we received your registration.\n  \n \n  \n 
URL:https://imawinner.org/event/day-of-thanks-2017/
LOCATION:Winners’ Worship Center\, 9309 N Florida Ave Suite 104\, Tampa\, FL\, 33612\, United States
ATTACH;FMTTYPE=image/png:https://imawinner.org/wp-content/uploads/2017/10/Day-of-Thanks-2017-deadline-extended.png
END:VEVENT
BEGIN:VEVENT
DTSTART;TZID=UTC:20171028T180000
DTEND;TZID=UTC:20171028T210000
DTSTAMP:20260423T200947
CREATED:20171003T082201Z
LAST-MODIFIED:20171007T202105Z
UID:1402-1509213600-1509224400@imawinner.org
SUMMARY:Hallelujah Night: Glow Up
DESCRIPTION:
URL:https://imawinner.org/event/hallelujah-night-glow-up/
LOCATION:Winners’ Worship Center\, 9309 N Florida Ave Suite 104\, Tampa\, FL\, 33612\, United States
END:VEVENT
BEGIN:VEVENT
DTSTART;TZID=UTC:20171028T080000
DTEND;TZID=UTC:20171028T110000
DTSTAMP:20260423T200947
CREATED:20171003T085103Z
LAST-MODIFIED:20171003T231344Z
UID:1405-1509177600-1509188400@imawinner.org
SUMMARY:S.A.L.T. Walks for Breast Cancer Awareness
DESCRIPTION:
URL:https://imawinner.org/event/s-a-l-t-walks-for-breast-cancer-awareness/
LOCATION:Amalie Arena\, 401 Channelside Dr\, Tampa\, FL\, 33602\, United States
END:VEVENT
BEGIN:VEVENT
DTSTART;TZID=UTC:20171021T100000
DTEND;TZID=UTC:20171021T120000
DTSTAMP:20260423T200947
CREATED:20171003T224551Z
LAST-MODIFIED:20171003T224551Z
UID:1422-1508580000-1508587200@imawinner.org
SUMMARY:Flowers of Love Outreach
DESCRIPTION:
URL:https://imawinner.org/event/flowers-of-love-outreach/
LOCATION:FL
END:VEVENT
BEGIN:VEVENT
DTSTART;TZID=UTC:20171016T190000
DTEND;TZID=UTC:20171016T200000
DTSTAMP:20260423T200947
CREATED:20171003T091340Z
LAST-MODIFIED:20171003T091340Z
UID:1410-1508180400-1508184000@imawinner.org
SUMMARY:Men's Bible Study
DESCRIPTION:
URL:https://imawinner.org/event/mens-bible-study/
LOCATION:Winners’ Worship Center\, 9309 N Florida Ave Suite 104\, Tampa\, FL\, 33612\, United States
END:VEVENT
BEGIN:VEVENT
DTSTART;TZID=UTC:20171007T090000
DTEND;TZID=UTC:20171007T140000
DTSTAMP:20260423T200947
CREATED:20171003T094139Z
LAST-MODIFIED:20171003T094139Z
UID:1419-1507366800-1507384800@imawinner.org
SUMMARY:Hurricane Relief Drive
DESCRIPTION:
URL:https://imawinner.org/event/hurricane-relief-drive/
LOCATION:Winners’ Worship Center\, 9309 N Florida Ave Suite 104\, Tampa\, FL\, 33612\, United States
END:VEVENT
BEGIN:VEVENT
DTSTART;TZID=UTC:20170921T080000
DTEND;TZID=UTC:20170923T170000
DTSTAMP:20260423T200947
CREATED:20170907T194803Z
LAST-MODIFIED:20170907T194854Z
UID:1371-1505980800-1506186000@imawinner.org
SUMMARY:Her Destiny 2017
DESCRIPTION:Grab your best girlfriend\, mother\, sister\, cousin\, co-worker\, well\, you get the point. \nThis event is free\, but seating is limited. \nJoin the rest of the women in the Tampa Bay and beyond. \nRegister here.
URL:https://imawinner.org/event/her-destiny-2017/
LOCATION:Winners’ Worship Center\, 9309 N Florida Ave Suite 104\, Tampa\, FL\, 33612\, United States
END:VEVENT
BEGIN:VEVENT
DTSTART;TZID=UTC:20170729T100000
DTEND;TZID=UTC:20170729T140000
DTSTAMP:20260423T200947
CREATED:20170712T183509Z
LAST-MODIFIED:20170712T183604Z
UID:1253-1501322400-1501336800@imawinner.org
SUMMARY:Let's Go Back to School Community Outreach
DESCRIPTION:No registration required. \n10 am until supplies last.
URL:https://imawinner.org/event/lets-go-back-to-school-community-outreach/
LOCATION:Winners’ Worship Center\, 9309 N Florida Ave Suite 104\, Tampa\, FL\, 33612\, United States
ORGANIZER;CN="Jaina Washington":MAILTO:winnersresourcectr@gmail.com
END:VEVENT
BEGIN:VEVENT
DTSTART;TZID=UTC:20170729T090000
DTEND;TZID=UTC:20170729T140000
DTSTAMP:20260423T200947
CREATED:20170609T230329Z
LAST-MODIFIED:20170617T022243Z
UID:1098-1501318800-1501336800@imawinner.org
SUMMARY:2nd Annual Dance Ministry Conference - Fearless
DESCRIPTION:  \nClick HERE to register today!
URL:https://imawinner.org/event/2nd-annual-dance-ministry-conference-fearless/
LOCATION:Winners’ Worship Center\, 9309 N Florida Ave Suite 104\, Tampa\, FL\, 33612\, United States
END:VEVENT
BEGIN:VEVENT
DTSTART;TZID=UTC:20170607T190000
DTEND;TZID=UTC:20170729T203000
DTSTAMP:20260423T200947
CREATED:20170609T221908Z
LAST-MODIFIED:20170609T222046Z
UID:1095-1496862000-1501360200@imawinner.org
SUMMARY:Winners' Camp
DESCRIPTION:EVERY WEDNESDAY NIGHT AT 7 PM
URL:https://imawinner.org/event/winners-camp/
LOCATION:Winners’ Worship Center\, 9309 N Florida Ave Suite 104\, Tampa\, FL\, 33612\, United States
ATTACH;FMTTYPE=image/png:https://imawinner.org/wp-content/uploads/2017/06/WINNERS-CAMP-2017-FREE-ADULT-SUMMER-EVENTS-TAMPA-FL.png
END:VEVENT
BEGIN:VEVENT
DTSTART;TZID=UTC:20170501T190000
DTEND;TZID=UTC:20170501T203000
DTSTAMP:20260423T200947
CREATED:20170420T015847Z
LAST-MODIFIED:20170420T015847Z
UID:1049-1493665200-1493670600@imawinner.org
SUMMARY:Studious Women
DESCRIPTION:
URL:https://imawinner.org/event/studious-women/
LOCATION:FL
END:VEVENT
BEGIN:VEVENT
DTSTART;TZID=UTC:20170422T130000
DTEND;TZID=UTC:20170422T180000
DTSTAMP:20260423T200947
CREATED:20170420T015153Z
LAST-MODIFIED:20170420T015153Z
UID:1046-1492866000-1492884000@imawinner.org
SUMMARY:Church Anniversary Picnic
DESCRIPTION:
URL:https://imawinner.org/event/church-anniversary-picnic/
LOCATION:FL
END:VEVENT
BEGIN:VEVENT
DTSTART;TZID=UTC:20170422T100000
DTEND;TZID=UTC:20170422T120000
DTSTAMP:20260423T200947
CREATED:20170411T222447Z
LAST-MODIFIED:20170411T222447Z
UID:1033-1492855200-1492862400@imawinner.org
SUMMARY:Winners' Resource Center Resume and Interview Skills Workshop
DESCRIPTION:
URL:https://imawinner.org/event/winners-resource-center-resume-and-interview-skills-workshop/
LOCATION:Winners’ Worship Center\, 9309 N Florida Ave Suite 104\, Tampa\, FL\, 33612\, United States
ORGANIZER;CN="Jaina Washington":MAILTO:winnersresourcectr@gmail.com
END:VEVENT
BEGIN:VEVENT
DTSTART;TZID=UTC:20170420T190000
DTEND;TZID=UTC:20170420T230000
DTSTAMP:20260423T200947
CREATED:20170420T020114Z
LAST-MODIFIED:20170420T020114Z
UID:1052-1492714800-1492729200@imawinner.org
SUMMARY:S.I.N.G.L.E. Life Ministry Hosts Bowling Fun Night for Everyone
DESCRIPTION:
URL:https://imawinner.org/event/s-i-n-g-l-e-life-ministry-hosts-bowling-fun-night-for-everyone/
LOCATION:FL
END:VEVENT
BEGIN:VEVENT
DTSTART;TZID=UTC:20170414T120000
DTEND;TZID=UTC:20170416T130000
DTSTAMP:20260423T200947
CREATED:20170411T222048Z
LAST-MODIFIED:20170411T222048Z
UID:1029-1492171200-1492347600@imawinner.org
SUMMARY:All Access Easter Weekend at Winners'
DESCRIPTION:
URL:https://imawinner.org/event/all-access-easter-weekend-at-winners/
LOCATION:Winners’ Worship Center\, 9309 N Florida Ave Suite 104\, Tampa\, FL\, 33612\, United States
END:VEVENT
BEGIN:VEVENT
DTSTART;VALUE=DATE:20170324
DTEND;VALUE=DATE:20170326
DTSTAMP:20260423T200947
CREATED:20170211T053037Z
LAST-MODIFIED:20170314T054718Z
UID:956-1490313600-1490486399@imawinner.org
SUMMARY:My  BFF Winning Weekend
DESCRIPTION:
URL:https://imawinner.org/event/my-bff-winning-weekend/
LOCATION:11605 N. Nebraska Ave \, Tampa\, FL\, 33612\, United States
CATEGORIES:March 2017
ATTACH;FMTTYPE=image/jpeg:https://imawinner.org/wp-content/uploads/2017/02/MY-BFF-42.jpg
END:VEVENT
BEGIN:VEVENT
DTSTART;TZID=UTC:20170306T190000
DTEND;TZID=UTC:20170306T210000
DTSTAMP:20260423T200947
CREATED:20170211T070046Z
LAST-MODIFIED:20170211T070047Z
UID:975-1488826800-1488834000@imawinner.org
SUMMARY:S.A.L.T\, A Women's Ministry of Winners' Worship Center
DESCRIPTION:
URL:https://imawinner.org/event/s-a-l-t-a-womens-ministry-of-winners-worship-center/
LOCATION:11605 N. Nebraska Ave \, Tampa\, FL\, 33612\, United States
CATEGORIES:March 2017
ATTACH;FMTTYPE=image/jpeg:https://imawinner.org/wp-content/uploads/2017/02/salt-monthly-bible-study-no-address.jpg
END:VEVENT
BEGIN:VEVENT
DTSTART;TZID=UTC:20170225T100000
DTEND;TZID=UTC:20170225T120000
DTSTAMP:20260423T200947
CREATED:20170211T065726Z
LAST-MODIFIED:20170211T065726Z
UID:971-1488016800-1488024000@imawinner.org
SUMMARY:Men's Prayer Breakfast at Lupton's
DESCRIPTION:
URL:https://imawinner.org/event/mens-prayer-breakfast-at-luptons/
LOCATION:Lupton’s\, 5229 E. Busch Blvd\, Temple Terrace\, FL\, 33617\, United States
CATEGORIES:February 2017
ATTACH;FMTTYPE=image/jpeg:https://imawinner.org/wp-content/uploads/2017/02/Mens-Prayer-BreakfastSaturday-February-25that-10-am.jpg
END:VEVENT
END:VCALENDAR