BEGIN:VCALENDAR
VERSION:2.0
PRODID:-//Winners&#039; Worship Center Church - Tampa, FL Nondenominational Church - ECPv6.15.20//NONSGML v1.0//EN
CALSCALE:GREGORIAN
METHOD:PUBLISH
X-WR-CALNAME:Winners&#039; Worship Center Church - Tampa, FL Nondenominational Church
X-ORIGINAL-URL:https://imawinner.org
X-WR-CALDESC:Events for Winners&#039; Worship Center Church - Tampa, FL Nondenominational Church
REFRESH-INTERVAL;VALUE=DURATION:PT1H
X-Robots-Tag:noindex
X-PUBLISHED-TTL:PT1H
BEGIN:VTIMEZONE
TZID:America/New_York
BEGIN:DAYLIGHT
TZOFFSETFROM:-0500
TZOFFSETTO:-0400
TZNAME:EDT
DTSTART:20250309T070000
END:DAYLIGHT
BEGIN:STANDARD
TZOFFSETFROM:-0400
TZOFFSETTO:-0500
TZNAME:EST
DTSTART:20251102T060000
END:STANDARD
BEGIN:DAYLIGHT
TZOFFSETFROM:-0500
TZOFFSETTO:-0400
TZNAME:EDT
DTSTART:20260308T070000
END:DAYLIGHT
BEGIN:STANDARD
TZOFFSETFROM:-0400
TZOFFSETTO:-0500
TZNAME:EST
DTSTART:20261101T060000
END:STANDARD
BEGIN:DAYLIGHT
TZOFFSETFROM:-0500
TZOFFSETTO:-0400
TZNAME:EDT
DTSTART:20270314T070000
END:DAYLIGHT
BEGIN:STANDARD
TZOFFSETFROM:-0400
TZOFFSETTO:-0500
TZNAME:EST
DTSTART:20271107T060000
END:STANDARD
END:VTIMEZONE
BEGIN:VEVENT
DTSTART;TZID=America/New_York:20260425T000000
DTEND;TZID=America/New_York:20260425T000000
DTSTAMP:20260423T063913
CREATED:20260330T132206Z
LAST-MODIFIED:20260330T132206Z
UID:4787-1777075200-1777075200@imawinner.org
SUMMARY:Community Connections Outreach
DESCRIPTION:Be a part of something special. Join our Community Connections Outreach and help us share the word of God with our community. \nContact Minister Marilyn or Minister Nan for more information.
URL:https://imawinner.org/event/community-connections-outreach-april-2026/
LOCATION:FL
ATTACH;FMTTYPE=image/png:https://imawinner.org/wp-content/uploads/2024/07/Winners-Worship-Center-Community-Connections-Outreach-1.png
END:VEVENT
BEGIN:VEVENT
DTSTART;TZID=America/New_York:20260425T100000
DTEND;TZID=America/New_York:20260425T140000
DTSTAMP:20260423T063913
CREATED:20260326T224002Z
LAST-MODIFIED:20260417T141049Z
UID:4755-1777111200-1777125600@imawinner.org
SUMMARY:Swap and Sow: An Earth Day Celebration
DESCRIPTION:Celebrate Earth Day with Winners’ Resource Center! Swap clothes\, learn gardening tips\, and e-recycle your tech at our Swap and Sow. \n\n\n\nSwap\, Sow\, and Save Our Earth!\nJoin Winners’ Resource Center for a special Earth Day celebration designed to help you refresh your lifestyle while protecting our planet. Swap and Sow is more than just an event; it’s a community gathering focused on sustainability\, stewardship\, and “sowing” into a greener future for Tampa. \nWe are bringing the Village together to reduce waste and share resources in a fun\, family-friendly environment. \nWhat to Expect: \n\n Clothing Swap: Refresh your wardrobe without spending a dime! Bring your gently used clothes and swap them for “new-to-you” items.\n Gardening Tips: Learn how to sow into your future. We’ll be sharing practical gardening advice to help you start your own green space at home.\n E-Recycling Drop-Off: Protect our soil and water. Bring your old tech items (computers\, cables\, small electronics) for safe\, responsible e-recycling.\n\nEvent Details: \n\n Date: Saturday\, April 25\, 2026\n Time: 10:00 AM – 2:00 PM\n Location: 9309 N. Florida Ave\, Ste 104\, Tampa\, FL 33612\n\nHow to Prepare: Before you join us\, please view the full list of acceptable items for the clothing exchange and e-recycling drop-off. \nAcceptance Policies\n\nGeneral Rule: If it has a plug\, a switch\, or a battery\, it can be recycled.\nTV Policy: TVs incur a recycling fee based on size:\n\nUp to 32″: $10 per item.\nBetween 33″ – 60″: $15 per item.\nAbove 60″: $20 per item.\n\n\nItems NOT Accepted: * CRT (Cathode Ray Tube) monitors.\n\nCRT (Cathode Ray Tube) TVs.\nFluorescent bulbs.\n\n\n\n\nMedia Devices\n\nCameras\nVHS Players\nStereos\nProjectors\nTVs\nControllers\nHeadphones\nConsoles\nSpeakers\nTablets\nCD/DVD Players\n\n\nComputer Devices\n\nDesktops\nLaptops\nServers\nServer Racks\nUPS\nTelephones\nPrinters & Scanners\nPeripherals\nCopiers & Fax Machines\nSwitches & Routers\nSmartphones\nCables & Wires\n\n\nHome Appliances\n\nAir Conditioners\nMicrowaves\nDehumidifiers\nVacuums\nCooking Appliances\nWater Heaters\nFans\nElectric Cookers\nElectric Radiators\nPower Tools\nWater Coolers\nBlenders\n\n\nScrap Metal\n\nCopper\nSteel\nMixed Cables\nAluminum\nBrass\nLead Acid Batteries\nChristmas Lights\n\nCome ready to swap\, learn\, and grow! We can’t wait to see you there as we celebrate the Earth together.
URL:https://imawinner.org/event/swap-and-sow-an-earth-day-celebration/
LOCATION:Winners’ Worship Center\, 9309 N Florida Ave Suite 104\, Tampa\, FL\, 33612\, United States
ATTACH;FMTTYPE=image/png:https://imawinner.org/wp-content/uploads/2026/03/Social-Media.png
END:VEVENT
BEGIN:VEVENT
DTSTART;TZID=America/New_York:20260425T110000
DTEND;TZID=America/New_York:20260425T130000
DTSTAMP:20260423T063913
CREATED:20260330T131857Z
LAST-MODIFIED:20260330T131947Z
UID:4780-1777114800-1777122000@imawinner.org
SUMMARY:Women Of Restored Treasure Hearts
DESCRIPTION:You are W.O.R.T.H. more than you know. 🌸 \nJoin the Women Of Restored Treasure Hearts on Saturday\, April 25th at 11:00 AM for a morning of divine restoration and sisterhood. \nThis is your opportunity to embrace your true identity in Christ and connect with a community that supports your healing journey. Whether you need emotional strength or a deeper spiritual connection\, come experience the fullness of who God created you to be. \nConnection is waiting. Restoration is here. See you at the table!
URL:https://imawinner.org/event/women-of-restored-treasure-hearts-04-2026/
LOCATION:FL
ATTACH;FMTTYPE=image/png:https://imawinner.org/wp-content/uploads/2026/03/WORTH-March.png
END:VEVENT
BEGIN:VEVENT
DTSTART;TZID=America/New_York:20260426T160000
DTEND;TZID=America/New_York:20260426T180000
DTSTAMP:20260423T063913
CREATED:20260415T111112Z
LAST-MODIFIED:20260415T111112Z
UID:4850-1777219200-1777226400@imawinner.org
SUMMARY:Friends & Family Day: A Legacy of Love
DESCRIPTION:Join us for a powerful afternoon of fellowship\, music\, and remembrance at our Friends and Family Day! Taking place on Sunday\, April 26th\, at 4:00 PM\, this is a special day dedicated to the strength of our Village and the bonds that connect us. \nA Celebration of Life and Legacy\nThis year’s event holds a very special place in our hearts as we honor the heavenly birthday of our late Pastor Robert Fruster. We invite you to join us as we celebrate his lasting legacy and the foundation of faith he built for our community. \nWhat to Expect:\n\n\nSoul-Stirring Worship: An atmosphere of Unrestricted Praise to lift your spirits. \n\n\nSpecial Musical Guests: We are thrilled to welcome the incredible NU-Kre@tion for a special musical performance you won’t want to miss! \n\n\nDelicious Food: Stick around for food and fellowship as we break bread together as a family. \n\n\nA Village Experience: This is the perfect time for those new to the area to see what Winners’ Worship Center is all about. \n\n\nWho Is Invited?\nEveryone! We encourage every member of the Village to not only attend but to invite your friends\, neighbors\, and extended family. Whether they have walked with us for years or have never set foot in a church\, there is a place for them here. \n“Truly I tell you\, today you will be with me in Paradise.” — Luke 23:43  \n📍 Location: 9309 N. Florida Ave\, Ste 104\, Tampa\, FL 33612 📅 Date: April 26\, 2026 🕓 Time: 4:00 PM \nCome ready to worship\, eat\, and celebrate the beautiful legacy of Pastor Robert Fruster. We can’t wait to see you and your guests there! \n#FriendsAndFamilyDay #WinnersWorshipCenter #PastorRobertFruster #NUKreation #TampaWorship #TheVillage #LegacyCelebration
URL:https://imawinner.org/event/friends-family-day-a-legacy-of-love/
LOCATION:Winners’ Worship Center\, 9309 N Florida Ave Suite 104\, Tampa\, FL\, 33612\, United States
ATTACH;FMTTYPE=image/png:https://imawinner.org/wp-content/uploads/2026/04/Friends-and-Family-Day-2026-Winners-Worship-Center.png
END:VEVENT
END:VCALENDAR